Package: ADAMgui Version: 1.22.0 Command: rm -rf ADAMgui.buildbin-libdir && mkdir ADAMgui.buildbin-libdir && /Users/biocbuild/BBS/utils/build-universal.sh ADAMgui_1.22.0.tar.gz /Library/Frameworks/R.framework/Resources/bin/R ADAMgui.buildbin-libdir StartedAt: 2025-02-01 13:48:36 -0500 (Sat, 01 Feb 2025) EndedAt: 2025-02-01 13:49:12 -0500 (Sat, 01 Feb 2025) EllapsedTime: 36.1 seconds RetCode: 0 Status: OK PackageFile: ADAMgui_1.22.0.tgz PackageFileSize: 917.5 KiB