Package: ADAMgui Version: 1.22.0 Command: /Library/Frameworks/R.framework/Resources/bin/R CMD check --install=check:ADAMgui.install-out.txt --library=/Library/Frameworks/R.framework/Resources/library --no-vignettes --timings ADAMgui_1.22.0.tar.gz StartedAt: 2025-01-31 10:30:57 -0500 (Fri, 31 Jan 2025) EndedAt: 2025-01-31 10:34:35 -0500 (Fri, 31 Jan 2025) EllapsedTime: 217.7 seconds RetCode: 0 Status: OK CheckDir: ADAMgui.Rcheck Warnings: 0