Package: ADAMgui Version: 1.22.0 Command: /home/biocbuild/R/R/bin/R CMD build --keep-empty-dirs --no-resave-data ADAMgui StartedAt: 2024-11-19 22:40:54 -0000 (Tue, 19 Nov 2024) EndedAt: 2024-11-19 22:41:49 -0000 (Tue, 19 Nov 2024) EllapsedTime: 55.1 seconds RetCode: 0 Status: OK PackageFile: ADAMgui_1.22.0.tar.gz PackageFileSize: 1.745 MiB