Package: ADAMgui Version: 1.22.0 Command: /Library/Frameworks/R.framework/Resources/bin/R CMD build --keep-empty-dirs --no-resave-data ADAMgui StartedAt: 2025-02-03 16:58:09 -0500 (Mon, 03 Feb 2025) EndedAt: 2025-02-03 16:59:33 -0500 (Mon, 03 Feb 2025) EllapsedTime: 83.5 seconds RetCode: 0 Status: OK PackageFile: ADAMgui_1.22.0.tar.gz PackageFileSize: 1.745 MiB