Package: ADAMgui Version: 1.22.0 Command: /Library/Frameworks/R.framework/Resources/bin/R CMD INSTALL ADAMgui StartedAt: 2025-02-03 16:46:46 -0500 (Mon, 03 Feb 2025) EndedAt: 2025-02-03 16:47:44 -0500 (Mon, 03 Feb 2025) EllapsedTime: 58.1 seconds RetCode: 0 Status: OK