Package: ADAMgui Version: 1.22.0 Command: /home/biocbuild/bbs-3.20-bioc/R/bin/R CMD build --keep-empty-dirs --no-resave-data --md5 ADAMgui StartedAt: 2025-01-30 16:08:39 -0500 (Thu, 30 Jan 2025) EndedAt: 2025-01-30 16:09:16 -0500 (Thu, 30 Jan 2025) EllapsedTime: 37.1 seconds RetCode: 0 Status: OK PackageFile: ADAMgui_1.22.0.tar.gz PackageFileSize: 1.746 MiB