Package: ADAMgui Version: 1.22.0 Command: /home/biocbuild/bbs-3.20-bioc/R/bin/R CMD INSTALL ADAMgui StartedAt: 2025-01-30 16:00:08 -0500 (Thu, 30 Jan 2025) EndedAt: 2025-01-30 16:00:35 -0500 (Thu, 30 Jan 2025) EllapsedTime: 26.6 seconds RetCode: 0 Status: OK