Package: ADAMgui Version: 1.22.0 Command: chmod a+r ADAMgui -R && F:\biocbuild\bbs-3.20-bioc\R\bin\R.exe CMD build --keep-empty-dirs --no-resave-data ADAMgui StartedAt: 2025-02-03 17:24:34 -0500 (Mon, 03 Feb 2025) EndedAt: 2025-02-03 17:25:22 -0500 (Mon, 03 Feb 2025) EllapsedTime: 47.5 seconds RetCode: 0 Status: OK PackageFile: ADAMgui_1.22.0.tar.gz PackageFileSize: 1.745 MiB