Package: ADImpute Version: 1.16.0 Command: /Library/Frameworks/R.framework/Resources/bin/R CMD build --keep-empty-dirs --no-resave-data ADImpute StartedAt: 2025-01-30 18:36:48 -0500 (Thu, 30 Jan 2025) EndedAt: 2025-01-30 18:37:24 -0500 (Thu, 30 Jan 2025) EllapsedTime: 35.4 seconds RetCode: 0 Status: OK PackageFile: ADImpute_1.16.0.tar.gz PackageFileSize: 2.117 MiB