Package: ADImpute Version: 1.16.0 Command: /Library/Frameworks/R.framework/Resources/bin/R CMD check --install=check:ADImpute.install-out.txt --library=/Library/Frameworks/R.framework/Resources/library --no-vignettes --timings ADImpute_1.16.0.tar.gz StartedAt: 2025-01-31 10:31:33 -0500 (Fri, 31 Jan 2025) EndedAt: 2025-01-31 10:34:23 -0500 (Fri, 31 Jan 2025) EllapsedTime: 169.5 seconds RetCode: 0 Status: WARNINGS CheckDir: ADImpute.Rcheck Warnings: 1