Package: ADImpute Version: 1.16.0 Command: /home/biocbuild/R/R/bin/R CMD build --keep-empty-dirs --no-resave-data ADImpute StartedAt: 2025-02-03 21:31:59 -0000 (Mon, 03 Feb 2025) EndedAt: 2025-02-03 21:32:32 -0000 (Mon, 03 Feb 2025) EllapsedTime: 33.0 seconds RetCode: 0 Status: OK PackageFile: ADImpute_1.16.0.tar.gz PackageFileSize: 2.141 MiB