Package: ADImpute Version: 1.16.0 Command: /home/biocbuild/R/R/bin/R CMD INSTALL ADImpute StartedAt: 2025-02-03 21:14:20 -0000 (Mon, 03 Feb 2025) EndedAt: 2025-02-03 21:14:25 -0000 (Mon, 03 Feb 2025) EllapsedTime: 4.8 seconds RetCode: 0 Status: OK