Package: ADaCGH2 Version: 2.46.0 Command: /Library/Frameworks/R.framework/Resources/bin/R CMD check --install=check:ADaCGH2.install-out.txt --library=/Library/Frameworks/R.framework/Resources/library --no-vignettes --timings ADaCGH2_2.46.0.tar.gz StartedAt: 2025-02-04 10:47:58 -0500 (Tue, 04 Feb 2025) EndedAt: 2025-02-04 10:52:23 -0500 (Tue, 04 Feb 2025) EllapsedTime: 265.1 seconds RetCode: 0 Status: OK CheckDir: ADaCGH2.Rcheck Warnings: 0