Package: ADaCGH2 Version: 2.46.0 Command: /Library/Frameworks/R.framework/Resources/bin/R CMD INSTALL ADaCGH2 StartedAt: 2025-02-03 17:23:23 -0500 (Mon, 03 Feb 2025) EndedAt: 2025-02-03 17:23:51 -0500 (Mon, 03 Feb 2025) EllapsedTime: 27.8 seconds RetCode: 0 Status: OK