Package: ADaCGH2 Version: 2.46.0 Command: /Library/Frameworks/R.framework/Resources/bin/R CMD build --keep-empty-dirs --no-resave-data ADaCGH2 StartedAt: 2025-02-03 16:58:09 -0500 (Mon, 03 Feb 2025) EndedAt: 2025-02-03 17:01:23 -0500 (Mon, 03 Feb 2025) EllapsedTime: 193.4 seconds RetCode: 0 Status: OK PackageFile: ADaCGH2_2.46.0.tar.gz PackageFileSize: 1.172 MiB