Package: ADaCGH2 Version: 2.46.0 Command: /home/biocbuild/bbs-3.20-bioc/R/bin/R CMD build --keep-empty-dirs --no-resave-data --md5 ADaCGH2 StartedAt: 2025-02-03 16:16:49 -0500 (Mon, 03 Feb 2025) EndedAt: 2025-02-03 16:19:05 -0500 (Mon, 03 Feb 2025) EllapsedTime: 136.2 seconds RetCode: 0 Status: OK PackageFile: ADaCGH2_2.46.0.tar.gz PackageFileSize: 1.174 MiB