Package: ADaCGH2 Version: 2.46.0 Command: rm -rf ADaCGH2.buildbin-libdir && mkdir ADaCGH2.buildbin-libdir && F:\biocbuild\bbs-3.20-bioc\R\bin\R.exe CMD INSTALL --build --library=ADaCGH2.buildbin-libdir ADaCGH2_2.46.0.tar.gz StartedAt: 2025-02-04 07:55:38 -0500 (Tue, 04 Feb 2025) EndedAt: 2025-02-04 07:56:48 -0500 (Tue, 04 Feb 2025) EllapsedTime: 70.3 seconds RetCode: 0 Status: OK PackageFile: ADaCGH2_2.46.0.zip PackageFileSize: 1.052 MiB