Package: ADaCGH2 Version: 2.46.0 Command: chmod a+r ADaCGH2 -R && F:\biocbuild\bbs-3.20-bioc\R\bin\R.exe CMD build --keep-empty-dirs --no-resave-data ADaCGH2 StartedAt: 2025-02-03 17:24:34 -0500 (Mon, 03 Feb 2025) EndedAt: 2025-02-03 17:26:12 -0500 (Mon, 03 Feb 2025) EllapsedTime: 98.2 seconds RetCode: 0 Status: OK PackageFile: ADaCGH2_2.46.0.tar.gz PackageFileSize: 939.7 KiB