Package: ADaCGH2 Version: 2.46.0 Command: F:\biocbuild\bbs-3.20-bioc\R\bin\R.exe CMD INSTALL ADaCGH2 StartedAt: 2025-02-03 16:13:05 -0500 (Mon, 03 Feb 2025) EndedAt: 2025-02-03 16:13:50 -0500 (Mon, 03 Feb 2025) EllapsedTime: 45.0 seconds RetCode: 0 Status: OK