Package: ADaCGH2 Version: 2.46.0 Command: /home/biocbuild/R/R/bin/R CMD build --keep-empty-dirs --no-resave-data ADaCGH2 StartedAt: 2025-02-03 21:31:54 -0000 (Mon, 03 Feb 2025) EndedAt: 2025-02-03 21:33:43 -0000 (Mon, 03 Feb 2025) EllapsedTime: 109.1 seconds RetCode: 0 Status: OK PackageFile: ADaCGH2_2.46.0.tar.gz PackageFileSize: 1.161 MiB