Package: ADaCGH2 Version: 2.46.0 Command: /home/biocbuild/R/R/bin/R CMD INSTALL ADaCGH2 StartedAt: 2025-02-03 21:09:46 -0000 (Mon, 03 Feb 2025) EndedAt: 2025-02-03 21:10:13 -0000 (Mon, 03 Feb 2025) EllapsedTime: 27.3 seconds RetCode: 0 Status: OK