Package: AHMassBank Version: 1.6.0 Command: /home/biocbuild/R/R/bin/R CMD build --keep-empty-dirs --no-resave-data AHMassBank StartedAt: 2024-11-19 22:42:23 -0000 (Tue, 19 Nov 2024) EndedAt: 2024-11-19 22:43:45 -0000 (Tue, 19 Nov 2024) EllapsedTime: 82.1 seconds RetCode: 0 Status: OK PackageFile: AHMassBank_1.6.0.tar.gz PackageFileSize: 357.6 KiB