Package: AHMassBank Version: 1.6.0 Command: /Library/Frameworks/R.framework/Resources/bin/R CMD build --keep-empty-dirs --no-resave-data AHMassBank StartedAt: 2025-01-30 17:02:37 -0500 (Thu, 30 Jan 2025) EndedAt: 2025-01-30 17:04:35 -0500 (Thu, 30 Jan 2025) EllapsedTime: 117.9 seconds RetCode: 0 Status: OK PackageFile: AHMassBank_1.6.0.tar.gz PackageFileSize: 293.2 KiB