Package: AHMassBank Version: 1.6.0 Command: /Library/Frameworks/R.framework/Resources/bin/R CMD INSTALL AHMassBank StartedAt: 2025-01-30 15:55:50 -0500 (Thu, 30 Jan 2025) EndedAt: 2025-01-30 15:57:14 -0500 (Thu, 30 Jan 2025) EllapsedTime: 83.4 seconds RetCode: 0 Status: OK