Package: AHMassBank Version: 1.6.0 Command: /home/biocbuild/bbs-3.20-bioc/R/bin/R CMD build --keep-empty-dirs --no-resave-data --md5 AHMassBank StartedAt: 2025-02-03 16:17:48 -0500 (Mon, 03 Feb 2025) EndedAt: 2025-02-03 16:18:57 -0500 (Mon, 03 Feb 2025) EllapsedTime: 69.1 seconds RetCode: 0 Status: OK PackageFile: AHMassBank_1.6.0.tar.gz PackageFileSize: 293.9 KiB