Package: AHMassBank Version: 1.6.0 Command: chmod a+r AHMassBank -R && F:\biocbuild\bbs-3.20-bioc\R\bin\R.exe CMD build --keep-empty-dirs --no-resave-data AHMassBank StartedAt: 2025-02-03 17:26:04 -0500 (Mon, 03 Feb 2025) EndedAt: 2025-02-03 17:27:20 -0500 (Mon, 03 Feb 2025) EllapsedTime: 76.0 seconds RetCode: 0 Status: OK PackageFile: AHMassBank_1.6.0.tar.gz PackageFileSize: 293.4 KiB