Package: AHMassBank Version: 1.6.0 Command: /home/biocbuild/R/R/bin/R CMD build --keep-empty-dirs --no-resave-data AHMassBank StartedAt: 2025-02-03 21:33:11 -0000 (Mon, 03 Feb 2025) EndedAt: 2025-02-03 21:34:22 -0000 (Mon, 03 Feb 2025) EllapsedTime: 71.0 seconds RetCode: 0 Status: OK PackageFile: AHMassBank_1.6.0.tar.gz PackageFileSize: 357.6 KiB