Package: AHMassBank Version: 1.6.0 Command: /home/biocbuild/R/R/bin/R CMD INSTALL AHMassBank StartedAt: 2025-02-03 20:53:09 -0000 (Mon, 03 Feb 2025) EndedAt: 2025-02-03 20:53:58 -0000 (Mon, 03 Feb 2025) EllapsedTime: 50.0 seconds RetCode: 0 Status: OK