Package: AIMS Version: 1.38.0 Command: rm -rf AIMS.buildbin-libdir && mkdir AIMS.buildbin-libdir && /Users/biocbuild/BBS/utils/build-universal.sh AIMS_1.38.0.tar.gz /Library/Frameworks/R.framework/Resources/bin/R AIMS.buildbin-libdir StartedAt: 2024-11-20 04:13:26 -0500 (Wed, 20 Nov 2024) EndedAt: 2024-11-20 04:13:37 -0500 (Wed, 20 Nov 2024) EllapsedTime: 10.4 seconds RetCode: 0 Status: OK PackageFile: AIMS_1.38.0.tgz PackageFileSize: 500.7 KiB