Package: AIMS Version: 1.38.0 Command: /Library/Frameworks/R.framework/Resources/bin/R CMD check --install=check:AIMS.install-out.txt --library=/Library/Frameworks/R.framework/Resources/library --no-vignettes --timings AIMS_1.38.0.tar.gz StartedAt: 2025-02-03 23:31:41 -0500 (Mon, 03 Feb 2025) EndedAt: 2025-02-03 23:32:47 -0500 (Mon, 03 Feb 2025) EllapsedTime: 66.0 seconds RetCode: 0 Status: OK CheckDir: AIMS.Rcheck Warnings: 0