Package: AIMS Version: 1.38.0 Command: rm -rf AIMS.buildbin-libdir && mkdir AIMS.buildbin-libdir && F:\biocbuild\bbs-3.20-bioc\R\bin\R.exe CMD INSTALL --build --library=AIMS.buildbin-libdir AIMS_1.38.0.tar.gz StartedAt: 2025-02-04 07:56:28 -0500 (Tue, 04 Feb 2025) EndedAt: 2025-02-04 07:56:43 -0500 (Tue, 04 Feb 2025) EllapsedTime: 14.9 seconds RetCode: 0 Status: OK PackageFile: AIMS_1.38.0.zip PackageFileSize: 505.5 KiB