Package: AIMS Version: 1.38.0 Command: F:\biocbuild\bbs-3.20-bioc\R\bin\R.exe CMD INSTALL AIMS StartedAt: 2025-02-03 15:37:03 -0500 (Mon, 03 Feb 2025) EndedAt: 2025-02-03 15:37:13 -0500 (Mon, 03 Feb 2025) EllapsedTime: 9.8 seconds RetCode: 0 Status: OK