Package: AIMS Version: 1.38.0 Command: /home/biocbuild/R/R/bin/R CMD INSTALL AIMS StartedAt: 2025-02-03 20:22:09 -0000 (Mon, 03 Feb 2025) EndedAt: 2025-02-03 20:22:33 -0000 (Mon, 03 Feb 2025) EllapsedTime: 23.5 seconds RetCode: 0 Status: OK