Package: AMARETTO Version: 1.22.0 Command: rm -rf AMARETTO.buildbin-libdir && mkdir AMARETTO.buildbin-libdir && /Users/biocbuild/BBS/utils/build-universal.sh AMARETTO_1.22.0.tar.gz /Library/Frameworks/R.framework/Resources/bin/R AMARETTO.buildbin-libdir StartedAt: 2025-02-05 14:47:02 -0500 (Wed, 05 Feb 2025) EndedAt: 2025-02-05 14:47:47 -0500 (Wed, 05 Feb 2025) EllapsedTime: 45.2 seconds RetCode: 0 Status: OK PackageFile: AMARETTO_1.22.0.tgz PackageFileSize: 3.5 MiB