Package: AMARETTO Version: 1.22.0 Command: /home/biocbuild/R/R/bin/R CMD INSTALL AMARETTO StartedAt: 2025-02-03 21:04:15 -0000 (Mon, 03 Feb 2025) EndedAt: 2025-02-03 21:04:58 -0000 (Mon, 03 Feb 2025) EllapsedTime: 43.0 seconds RetCode: 0 Status: OK