Package: AMOUNTAIN Version: 1.32.0 Command: /Library/Frameworks/R.framework/Resources/bin/R CMD INSTALL AMOUNTAIN StartedAt: 2025-01-30 15:07:48 -0500 (Thu, 30 Jan 2025) EndedAt: 2025-01-30 15:08:11 -0500 (Thu, 30 Jan 2025) EllapsedTime: 23.4 seconds RetCode: 0 Status: OK