Package: ANCOMBC Version: 2.8.1 Command: /Library/Frameworks/R.framework/Resources/bin/R CMD INSTALL ANCOMBC StartedAt: 2025-02-10 16:14:17 -0500 (Mon, 10 Feb 2025) EndedAt: 2025-02-10 16:15:01 -0500 (Mon, 10 Feb 2025) EllapsedTime: 44.5 seconds RetCode: 0 Status: OK