Package: ANCOMBC Version: 2.8.1 Command: /home/biocbuild/bbs-3.20-bioc/R/bin/R CMD check --install=check:ANCOMBC.install-out.txt --library=/home/biocbuild/bbs-3.20-bioc/R/site-library --timings ANCOMBC_2.8.1.tar.gz StartedAt: 2025-02-03 20:01:52 -0500 (Mon, 03 Feb 2025) EndedAt: 2025-02-03 20:14:47 -0500 (Mon, 03 Feb 2025) EllapsedTime: 774.4 seconds RetCode: 0 Status: OK CheckDir: ANCOMBC.Rcheck Warnings: 0