Package: ANCOMBC Version: 2.8.1 Command: /home/biocbuild/bbs-3.20-bioc/R/bin/R CMD INSTALL ANCOMBC StartedAt: 2025-02-10 15:49:24 -0500 (Mon, 10 Feb 2025) EndedAt: 2025-02-10 15:49:42 -0500 (Mon, 10 Feb 2025) EllapsedTime: 17.8 seconds RetCode: 0 Status: OK