Package: ANCOMBC Version: 2.8.1 Command: rm -rf ANCOMBC.buildbin-libdir && mkdir ANCOMBC.buildbin-libdir && F:\biocbuild\bbs-3.20-bioc\R\bin\R.exe CMD INSTALL --build --library=ANCOMBC.buildbin-libdir ANCOMBC_2.8.1.tar.gz StartedAt: 2025-02-04 07:57:36 -0500 (Tue, 04 Feb 2025) EndedAt: 2025-02-04 07:58:14 -0500 (Tue, 04 Feb 2025) EllapsedTime: 38.3 seconds RetCode: 0 Status: OK PackageFile: ANCOMBC_2.8.1.zip PackageFileSize: 916.9 KiB