Package: ANCOMBC Version: 2.8.1 Command: chmod a+r ANCOMBC -R && F:\biocbuild\bbs-3.20-bioc\R\bin\R.exe CMD build --keep-empty-dirs --no-resave-data ANCOMBC StartedAt: 2025-02-03 17:28:01 -0500 (Mon, 03 Feb 2025) EndedAt: 2025-02-03 17:38:58 -0500 (Mon, 03 Feb 2025) EllapsedTime: 656.9 seconds RetCode: 0 Status: OK PackageFile: ANCOMBC_2.8.1.tar.gz PackageFileSize: 795.1 KiB