Package: ANCOMBC Version: 2.8.1 Command: F:\biocbuild\bbs-3.20-bioc\R\bin\R.exe CMD INSTALL ANCOMBC StartedAt: 2025-02-10 16:41:59 -0500 (Mon, 10 Feb 2025) EndedAt: 2025-02-10 16:42:27 -0500 (Mon, 10 Feb 2025) EllapsedTime: 27.6 seconds RetCode: 0 Status: OK