Package: ANCOMBC Version: 2.8.1 Command: /home/biocbuild/R/R/bin/R CMD build --keep-empty-dirs --no-resave-data ANCOMBC StartedAt: 2025-02-03 21:35:10 -0000 (Mon, 03 Feb 2025) EndedAt: 2025-02-03 21:47:09 -0000 (Mon, 03 Feb 2025) EllapsedTime: 719.2 seconds RetCode: 0 Status: OK PackageFile: ANCOMBC_2.8.1.tar.gz PackageFileSize: 853.3 KiB