Package: ANCOMBC Version: 2.8.1 Command: /home/biocbuild/R/R/bin/R CMD INSTALL ANCOMBC StartedAt: 2025-02-03 21:07:45 -0000 (Mon, 03 Feb 2025) EndedAt: 2025-02-03 21:08:09 -0000 (Mon, 03 Feb 2025) EllapsedTime: 23.9 seconds RetCode: 0 Status: OK