Package: ANF Version: 1.28.0 Command: /Library/Frameworks/R.framework/Resources/bin/R CMD build --keep-empty-dirs --no-resave-data ANF StartedAt: 2025-02-03 18:36:36 -0500 (Mon, 03 Feb 2025) EndedAt: 2025-02-03 18:37:43 -0500 (Mon, 03 Feb 2025) EllapsedTime: 67.1 seconds RetCode: 0 Status: OK PackageFile: ANF_1.28.0.tar.gz PackageFileSize: 683.4 KiB