Package: ANF Version: 1.28.0 Command: /Library/Frameworks/R.framework/Resources/bin/R CMD INSTALL ANF StartedAt: 2025-02-10 17:39:44 -0500 (Mon, 10 Feb 2025) EndedAt: 2025-02-10 17:39:52 -0500 (Mon, 10 Feb 2025) EllapsedTime: 8.1 seconds RetCode: 0 Status: OK