Package: ANF Version: 1.28.0 Command: rm -rf ANF.buildbin-libdir && mkdir ANF.buildbin-libdir && /Users/biocbuild/BBS/utils/build-universal.sh ANF_1.28.0.tar.gz /Library/Frameworks/R.framework/Resources/bin/R ANF.buildbin-libdir StartedAt: 2025-02-04 12:27:23 -0500 (Tue, 04 Feb 2025) EndedAt: 2025-02-04 12:27:40 -0500 (Tue, 04 Feb 2025) EllapsedTime: 16.7 seconds RetCode: 0 Status: OK PackageFile: ANF_1.28.0.tgz PackageFileSize: 251.2 KiB