Package: ANF Version: 1.28.0 Command: /Library/Frameworks/R.framework/Resources/bin/R CMD check --install=check:ANF.install-out.txt --library=/Library/Frameworks/R.framework/Resources/library --no-vignettes --timings ANF_1.28.0.tar.gz StartedAt: 2025-02-03 23:37:57 -0500 (Mon, 03 Feb 2025) EndedAt: 2025-02-03 23:41:41 -0500 (Mon, 03 Feb 2025) EllapsedTime: 223.7 seconds RetCode: 0 Status: OK CheckDir: ANF.Rcheck Warnings: 0