Package: ANF Version: 1.28.0 Command: /home/biocbuild/bbs-3.20-bioc/R/bin/R CMD check --install=check:ANF.install-out.txt --library=/home/biocbuild/bbs-3.20-bioc/R/site-library --timings ANF_1.28.0.tar.gz StartedAt: 2025-02-03 20:02:05 -0500 (Mon, 03 Feb 2025) EndedAt: 2025-02-03 20:04:09 -0500 (Mon, 03 Feb 2025) EllapsedTime: 123.1 seconds RetCode: 0 Status: OK CheckDir: ANF.Rcheck Warnings: 0