Package: ANF Version: 1.28.0 Command: /home/biocbuild/bbs-3.20-bioc/R/bin/R CMD INSTALL ANF StartedAt: 2025-02-03 15:56:54 -0500 (Mon, 03 Feb 2025) EndedAt: 2025-02-03 15:57:01 -0500 (Mon, 03 Feb 2025) EllapsedTime: 6.7 seconds RetCode: 0 Status: OK